BEGIN:VCALENDAR
VERSION:2.0
PRODID:-//YourCompany//YourApp//EN
BEGIN:VEVENT
UID:inspection-49144-20e4347a-a521-4153-b838-6484511e5abf
DTSTAMP:20260424T214039Z
DTSTART:20260428T070000Z
DTEND:20260428T071500Z
SUMMARY:Inspection for 9 Joshua Court, Bundoora VIC 3083 
DESCRIPTION:Convieniently located in a court just off Plenty Road and postioned close by to amenities including Bundoora Square Shops, Woolworths, public transport and more, you will find this home offering:

•	3 bedrooms all with built in robes
•	Kitchen with gas upright stove and pantry 
•	Adjoining meals & living area
•	Combined bathroom and laundry with bath, shower, toilet and laundry trough

Extras include:
•	Fenced backyard 
•	Driveway with lockable gate
•	Gas heating
•	Wall air conditioning in meals/living area 
•	Floating floor boards
LOCATION:9 Joshua Court, Bundoora VIC 3083 
END:VEVENT
END:VCALENDAR
