BEGIN:VCALENDAR
VERSION:2.0
PRODID:-//YourCompany//YourApp//EN
BEGIN:VEVENT
UID:inspection-49131-39ea7c5a-4e98-4a4c-9d45-e0678949c1e8
DTSTAMP:20260424T195927Z
DTSTART:20260428T070000Z
DTEND:20260428T071500Z
SUMMARY:Inspection for 1490 Merriang Road, Beveridge VIC 3753 
DESCRIPTION:Conveniently located on Merriang Road and on a generous 18 acres of land, this homestead is waiting for you! Set back from the road along a lengthy tree lined driveway, you will find this unique home sure to impress. Comprising of:
 
•	Master bedroom with walk in robe
•	Ensuite with shower, vanity, toilet and bidet
•	Remaining 3 bedrooms all with built in robes
•	Carpeted sunken lounge with a circular ceiling 
•	Open plan kitchen/meals/living area featuring a split system and Coonara
•	Kitchen equipped with stainless steel Westinghouse appliances, a dishwasher and stone bench tops. Also offering ample storge space with a walk-in pantry
•	Main bathroom with dual basins, bath, toilet and shower
•	Study with a built-in desk
•	Powder room
•	Laundry with trough and linen cupboard 
•	Mudroom off the laundry with external access
•	Separate sunroom hosting a semi-circular enclosed deck area with over 180 degree views of the surrounding hills. Also offering a hooded extractor fan and main gas connection point for a BBQ

Extras include:
•	Ducted heating
•	Pool & spa
•	Carpeted bedrooms
•	Double garage with an adjoining storage room
•	A dam
•	Multiple open and lockable sheds and out-buildings 
•	Multiple paddocks and pens all fenced and ready for livestock

Please note: this property is serviced by gas cylinders, water tanks and has a septic tank system which will be the responsibility for the renter.
LOCATION:1490 Merriang Road, Beveridge VIC 3753 
END:VEVENT
END:VCALENDAR
