BEGIN:VCALENDAR
VERSION:2.0
PRODID:-//YourCompany//YourApp//EN
BEGIN:VEVENT
UID:inspection-49180-18c6688d-7923-437e-aced-c827fb065af1
DTSTAMP:20260424T213051Z
DTSTART:20260428T030000Z
DTEND:20260428T031500Z
SUMMARY:Inspection for 139 Avebury Drive, Berwick VIC 3806 
DESCRIPTION:**Booking your inspection is easy and essential!
Simply click on the “Book an Inspection” or “Request a Time” button to secure your spot. You’ll receive instant confirmation and be kept informed of any updates or changes to your inspection.
Please note, inspections may be cancelled if no registrations are received, so be sure to book in to avoid missing out.
Register today and take the first step towards securing your new home.

Positioned in a sought-after pocket on the north side of Berwick, this well-presented home offers comfort, space, and convenience for everyday living.

Featuring three generous bedrooms, the spacious master includes a walk-in robe and semi-ensuite access, while the remaining bedrooms are fitted with built-in robes and serviced by a central bathroom.

The home offers a light-filled open plan living area, complemented by a well-appointed kitchen with ample cupboard and bench space. A separate dining area flows through to an outdoor alfresco space, ideal for entertaining or relaxing with family and friends.

Additional features include:

Well-maintained interiors
Timber-style flooring and carpeted bedrooms
Heating and split system cooling
Spacious laundry
Secure, fully enclosed backyard with double gates, offering additional flexibility and storage options

Located within easy reach of the M1 freeway, Berwick train station, local cafés, shopping precincts, and the beautiful Wilson Botanic Park. Quality schools, Casey Medical Centre and St John of God Hospital are also in close proximity.

This is a fantastic opportunity to secure a comfortable home in a convenient and family-friendly location.
LOCATION:139 Avebury Drive, Berwick VIC 3806 
END:VEVENT
END:VCALENDAR
