BEGIN:VCALENDAR
VERSION:2.0
PRODID:-//YourCompany//YourApp//EN
BEGIN:VEVENT
UID:inspection-49241-ef3d8749-3a08-4bf7-85fb-f8bc47e600df
DTSTAMP:20260424T213930Z
DTSTART:20260430T033000Z
DTEND:20260430T034500Z
SUMMARY:Inspection for 1907/100 Harbour Esplanade, Docklands VIC 3008 
DESCRIPTION:**Scheduling your property inspection is now a breeze! Simply click on the "Book an Inspection" or "Request a Time" button to secure your appointment. You'll instantly receive a confirmation and be kept up-to-date with any alterations or cancellations concerning your scheduled visit. Please be aware, inspections may be subject to cancellation if no bookings are registered. Make your booking today and take the first step in finding your ideal home**

Positioned high on the 19th floor, this well-appointed apartment offers an exceptional lifestyle in the heart of Docklands, with sweeping views and an abundance of natural light throughout.

The property features two generously sized bedrooms, both fitted with built-in robes, including a master bedroom with its own private ensuite. A sleek central bathroom services the second bedroom, making the layout both practical and comfortable.

The modern kitchen is equipped with quality appliances, stone benchtops, and ample storage, seamlessly flowing into a spacious open-plan living and dining area. From here, step out onto a private balcony and enjoy stunning views across the Docklands and city skyline.

Designed for easy living, the apartment also includes split system heating and cooling for year-round comfort, a European laundry, and a secure car space. The building offers secure entry and a convenient inner-city lifestyle.

Located just moments from the CBD, public transport, waterfront dining, and local amenities, this property presents an ideal opportunity for those seeking both convenience and lifestyle.
LOCATION:1907/100 Harbour Esplanade, Docklands VIC 3008 
END:VEVENT
END:VCALENDAR
