BEGIN:VCALENDAR
VERSION:2.0
PRODID:-//YourCompany//YourApp//EN
BEGIN:VEVENT
UID:inspection-49235-4dec586f-b89d-43a2-a2a7-ef66eeecaac8
DTSTAMP:20260424T232450Z
DTSTART:20260430T001500Z
DTEND:20260430T003000Z
SUMMARY:Inspection for 307/185-187 Boundary Road, North Melbourne VIC 3051 
DESCRIPTION:**Scheduling your property inspection is now a breeze! Simply click on the "Book an Inspection" or "Request a Time" button to secure your appointment. You'll instantly receive a confirmation and be kept up-to-date with any alterations or cancellations concerning your scheduled visit. Please be aware, inspections may be subject to cancellation if no bookings are registered. Make your booking today and take the first step in finding your ideal home**

Positioned at 185-187 Boundary Road, this well-presented 1-bedroom, 1-bathroom apartment with 1 secure car space offers an exceptional opportunity to enjoy inner-city living in the highly sought-after North Melbourne precinct. Ideally located just minutes from the Melbourne CBD, the property is surrounded by a vibrant mix of cafés, restaurants, and local amenities, while also being close to major healthcare and education hubs including hospitals and universities. Enjoy the perfect balance of lifestyle and convenience in a rapidly growing urban pocket.

The property boasts excellent connectivity with a wide range of public transport options at your doorstep. Easy access to tram and bus services ensures seamless travel into the CBD and surrounding suburbs, while nearby major arterial roads provide convenient commuting by car. Whether you work in the city or study nearby, this location offers unmatched accessibility for daily living.

Inside, the apartment features a functional and light-filled layout, complete with a comfortable bedroom, modern bathroom, and a secure car space. Designed for low-maintenance living, it is ideal for professionals, students, or couples seeking a convenient and contemporary lifestyle. With proximity to leading educational institutions, parklands, and essential amenities, this property represents outstanding value in a premium location.
LOCATION:307/185-187 Boundary Road, North Melbourne VIC 3051 
END:VEVENT
END:VCALENDAR
