BEGIN:VCALENDAR
VERSION:2.0
PRODID:-//YourCompany//YourApp//EN
BEGIN:VEVENT
UID:inspection-49134-609491a9-9972-459f-b215-9218b698fd30
DTSTAMP:20260424T214116Z
DTSTART:20260428T053000Z
DTEND:20260428T054500Z
SUMMARY:Inspection for 11 Versailles Walk, Wollert VIC 3750 
DESCRIPTION:This brand new townhouse located within the Arramont Estate is within close proximity to parklands, Barrawang Primary School and a short drive to Aurora Village, you will find this home comprising of: 

Downstairs:
- Living area at the entrance of the property 
- European laundry 
- Powder room 
- Kitchen and meals area with 600mm stainless steel appliance, including dishwasher and walk in pantry 
- Access to back yard with double garage 

Upstairs:
- Main bedroom with walk in robe and full ensuite 
- Further 2 bedrooms with mirrored built in robes 
- Central bathroom with floor to ceiling tiling 
- Separate toilet 
- Linen cupboard 

Extra's include:
- Split system heating and cooling downstairs
- Wall mounted heating panels in all bedrooms and downstairs living area 
- Double garage – access from Gamay Lane 
- Carpets to all living areas and bedrooms
LOCATION:11 Versailles Walk, Wollert VIC 3750 
END:VEVENT
END:VCALENDAR
