BEGIN:VCALENDAR
VERSION:2.0
PRODID:-//YourCompany//YourApp//EN
BEGIN:VEVENT
UID:inspection-49202-7523367a-21d9-4af1-b415-28768ebfe569
DTSTAMP:20260424T232417Z
DTSTART:20260429T061500Z
DTEND:20260429T063000Z
SUMMARY:Inspection for 50 Atlantis Drive, Point Cook VIC 3030 
DESCRIPTION:**Scheduling your property inspection is now a breeze! Simply click on the "Book an Inspection" or "Request a Time" button to secure your appointment. You'll instantly receive a confirmation and be kept up-to-date with any alterations or cancellations concerning your scheduled visit. Please be aware, inspections may be subject to cancellation if no bookings are registered. Make your booking today and take the first step in finding your ideal home**

Perfectly positioned in the heart of Point Cook, 50 Atlantis Drive presents an outstanding lifestyle opportunity in one of the area’s most sought-after locations. Surrounded by established amenities, this address is just minutes from Point Cook Town Centre, reputable schools, lush parklands, and the picturesque coastline. Enjoy effortless connectivity with easy access to the Princes Freeway and Williams Landing Train Station, making commuting to Melbourne’s CBD simple and convenient. Set within a family-friendly community known for its quality homes and lifestyle appeal, this property offers the perfect blend of comfort, convenience, and coastal charm.
LOCATION:50 Atlantis Drive, Point Cook VIC 3030 
END:VEVENT
END:VCALENDAR
