BEGIN:VCALENDAR
VERSION:2.0
PRODID:-//YourCompany//YourApp//EN
BEGIN:VEVENT
UID:inspection-49209-cd9040fb-5887-46eb-925d-aeb77fab0f5f
DTSTAMP:20260424T232639Z
DTSTART:20260430T044500Z
DTEND:20260430T050000Z
SUMMARY:Inspection for 113 Dunstan Parade, Port Melbourne VIC 3207 
DESCRIPTION:This tastefully refurbished home offers the perfect setting for relaxed family living with a spacious backyard that invites play and entertaining. Beautifully presented throughout, the home features a sparkling modern kitchen complete with stone benchtops and stainless steel appliances, flowing effortlessly into light-filled living spaces.

Comprising two well-sized bedrooms with built-in robes, and a third smaller bedroom/study the home is designed for comfort and convenience, with heating and air conditioning ensuring year-round climate control. Positioned directly opposite Julier Reserve and within easy walking distance to the beach, the location is ideal for those who enjoy an active, outdoor lifestyle.

Additional highlights include a dishwasher, a generous decking area perfect for entertaining, as well as an outdoor laundry and shed, adding practicality to this charming and inviting home.
LOCATION:113 Dunstan Parade, Port Melbourne VIC 3207 
END:VEVENT
END:VCALENDAR
