BEGIN:VCALENDAR
VERSION:2.0
PRODID:-//YourCompany//YourApp//EN
BEGIN:VEVENT
UID:inspection-49136-93e63cad-0888-4514-b49c-cc83538aba47
DTSTAMP:20260424T232407Z
DTSTART:20260429T055000Z
DTEND:20260429T060500Z
SUMMARY:Inspection for 18/86 Graham Road, Viewbank VIC 3084 
DESCRIPTION:Nestled in a quiet corner, this delightful single storey unit is within close proximity to Creekbend Reserve, Viewbank College, Good Start Early Learning and more. 

This home comprises of: 
-	Two bedrooms with built in robes 
-	L shaped kitchen/meals/lounge area 
-	Kitchen with equipped with 600mm gas cooktop and electric oven
-	Bathroom with shower, vanity and toilet 
-	Separate laundry with single trough
-	Paved backyard 

Extras include: 
-	Floorboards throughout 
-	Separate toilet 
-	Ducted Heating 
-       Wall mounted air-conditioning unit in lounge
-	Single lockup garage
LOCATION:18/86 Graham Road, Viewbank VIC 3084 
END:VEVENT
END:VCALENDAR
