BEGIN:VCALENDAR
VERSION:2.0
PRODID:-//YourCompany//YourApp//EN
BEGIN:VEVENT
UID:inspection-48097-58f7e084-f951-4409-a396-155548f72e5f
DTSTAMP:20260421T103722Z
DTSTART:20260502T040000Z
DTEND:20260502T043000Z
SUMMARY:Inspection for 4 Dickerson Avenue, Mill Park VIC 3082 
DESCRIPTION:Set on a substantial allotment in one of Mill Park's most tightly held family pockets, this immediately inviting residence delivers the perfect blend of space, simplicity and long-term upside. Designed for effortless living, the home offers a functional layout ideal for first home buyers, growing families or astute investors seeking a high-demand location with proven capital growth.

Located approximately 5-minutes from Stables Shopping Centre and nearby schools including St Francis of Assisi Mill Park and Mill Park Primary School, this property offers exceptional lifestyle convenience. It's also just moments away from Mill Park Secondary College, local parks, childcare facilities, and major shopping precincts such as Westfield Plenty Valley - all set within a quiet, well-established streetscape that continues to appeal strongly to owner-occupiers.

•	Generous 621sqm (approx.) allotment with future potential 
•	Comfortable 3-bedroom accommodation suited to families or tenants 
•	Expansive backyard offering scope to enhance, extend or add value (STCA) 
•	Strong rental appeal in a high-demand, family-centric suburb 

Opportunities like this are becoming increasingly scarce - a solid home on a full-sized block, in a proven growth corridor, surrounded by lifestyle convenience. Whether you're looking to move in, lease out or unlock future potential, this is a strategic acquisition with immediate and long-term rewards.

 Property is currently tenanted. 

Disclaimer: We have in preparing the content used our best endeavours to ensure that the information contained is true and accurate, however accept no responsibility and disclaim all liability in respect to any errors, omissions, inaccuracies or misstatements in this document. Prospective purchasers should make their own enquiries to verify the information contained in this document. Prospective purchasers should make their own enquires and refer to the due diligence check-list provided by Consumer Affairs Victoria. Click on the link for a copy of the due diligence check-list from Consumer Affairs Victoria. http://www.consumer.vic.gov.au/duediligencechecklist
LOCATION:4 Dickerson Avenue, Mill Park VIC 3082 
END:VEVENT
END:VCALENDAR
